Felt | Verdi |
AlreadyApplied | True |
Aperture | 13.0 |
ApertureValue | 13.0 |
ApproximateFocusDistance | 4294967295 |
AutoLateralCA | 0 |
BitsPerSample | 8 |
Blacks2012 | 0 |
BlueHue | 0 |
BlueSaturation | 0 |
CameraProfile | Adobe Standard |
CFAPattern | [Red,Green][Green,Blue] |
CircleOfConfusion | 0.030 mm |
Clarity2012 | +100 |
ColorComponents | 3 |
ColorNoiseReduction | 25 |
ColorNoiseReductionDetail | 50 |
ColorTemperature | 4650 |
Contrast | Normal |
Contrast2012 | +24 |
ConvertToGrayscale | False |
CreateDate (1) | 2013:05:19 15:49:01.70 |
CreateDate | 2013:05:19 15:49:01 |
CreatorTool | Adobe Photoshop Lightroom 4.1 (Windows) |
CropAngle | 0 |
CropBottom | 0.998759 |
CropConstrainToWarp | 0 |
CropHeight | 1000 |
CropLeft | 0.018212 |
CropRight | 0.870861 |
CropTop | 0.058312 |
CropUnit | pixels |
CropWidth | 1358 |
CustomRendered | Normal |
DateCreated (1) | 2013:05:19 |
DateCreated | 2013:05:19 15:49:01.70 |
DateTimeOriginal | 2013:05:19 15:49:01 |
DefringeGreenAmount | 0 |
DefringeGreenHueHi | 60 |
DefringeGreenHueLo | 40 |
DefringePurpleAmount | 0 |
DefringePurpleHueHi | 70 |
DefringePurpleHueLo | 30 |
DigitalZoomRatio | 1 |
DOF | inf (0.50 m - inf) |
Exposure2012 | 0.00 |
ExposureCompensation | 0 |
ExposureMode | Auto |
ExposureProgram | Program AE |
ExposureTime | 1/640 |
Flash | Off, Did not fire |
FNumber | 13.0 |
FocalLength | 14.0 mm |
FocalLength35efl | 14.0 mm (35 mm equivalent: 14.0 mm) |
FocalLengthIn35mmFormat | 14 mm |
Format | image/jpeg |
FOV | 104.3 deg |
GainControl | Low gain up |
GrainAmount | 0 |
GreenHue | 0 |
GreenSaturation | 0 |
HasCrop | True |
HasSettings | True |
Highlights2012 | +11 |
HueAdjustmentAqua | 0 |
HueAdjustmentBlue | 0 |
HueAdjustmentGreen | 0 |
HueAdjustmentMagenta | 0 |
HueAdjustmentOrange | 0 |
HueAdjustmentPurple | 0 |
HueAdjustmentRed | 0 |
HueAdjustmentYellow | 0 |
HyperfocalDistance | 0.50 m |
ImageHeight | 1000 |
ImageNumber | 4535 |
ImageSize | 1358x1000 |
ImageWidth | 1358 |
ISO | 500 |
Lens | 14.0 mm f/2.8 |
LensID (1) | 74 |
LensID | Samyang AE 14mm f/2.8 ED AS IF UMC |
LensInfo | 14mm f/2.8-1.4 |
LensManualDistortionAmount | 0 |
LensModel | 14.0 mm f/2.8 |
LensProfileEnable | 0 |
LensProfileSetup | LensDefaults |
LightSource | Unknown |
LightValue | 14.4 |
LuminanceAdjustmentAqua | 0 |
LuminanceAdjustmentBlue | 0 |
LuminanceAdjustmentGreen | 0 |
LuminanceAdjustmentMagenta | 0 |
LuminanceAdjustmentOrange | 0 |
LuminanceAdjustmentPurple | 0 |
LuminanceAdjustmentRed | 0 |
LuminanceAdjustmentYellow | 0 |
LuminanceSmoothing | 0 |
Make | NIKON CORPORATION |
MaxApertureValue | 2.8 |
Megapixels | 1.4 |
MeteringMode | Multi-segment |
Model | NIKON D800 |
ModifyDate (1) | 2013:05:20 00:04:00+02:00 |
ModifyDate | 2013:05:20 00:04:00 |
ParametricDarks | 0 |
ParametricHighlights | 0 |
ParametricHighlightSplit | 75 |
ParametricLights | 0 |
ParametricMidtoneSplit | 50 |
ParametricShadows | 0 |
ParametricShadowSplit | 25 |
PerspectiveHorizontal | 0 |
PerspectiveRotate | 0.0 |
PerspectiveScale | 100 |
PerspectiveVertical | 0 |
PostCropVignetteAmount | -31 |
PostCropVignetteFeather | 95 |
PostCropVignetteHighlightContrast | 0 |
PostCropVignetteMidpoint | 15 |
PostCropVignetteRoundness | 0 |
PostCropVignetteStyle | 1 |
ProcessVersion | 6.7 |
ProfileDescription | sRGB IEC61966-2.1 |
RedHue | 0 |
RedSaturation | 0 |
Saturation (1) | 0 |
Saturation | Normal |
SaturationAdjustmentAqua | 0 |
SaturationAdjustmentBlue | 0 |
SaturationAdjustmentGreen | 0 |
SaturationAdjustmentMagenta | 0 |
SaturationAdjustmentOrange | 0 |
SaturationAdjustmentPurple | 0 |
SaturationAdjustmentRed | 0 |
SaturationAdjustmentYellow | 0 |
ScaleFactor35efl | 1.0 |
SceneCaptureType | Standard |
SceneType | Directly photographed |
SensingMethod | One-chip color area |
SensitivityType | Recommended Exposure Index |
SerialNumber | 6064142 |
Shadows2012 | +55 |
ShadowTint | 0 |
SharpenDetail | 25 |
SharpenEdgeMasking | 0 |
SharpenRadius | +1.0 |
Sharpness (1) | 69 |
Sharpness | Normal |
ShutterSpeed | 1/640 |
ShutterSpeedValue | 1/640 |
Software | Adobe Photoshop Lightroom 4.1 (Windows) |
SplitToningBalance | 0 |
SplitToningHighlightHue | 53 |
SplitToningHighlightSaturation | 7 |
SplitToningShadowHue | 235 |
SplitToningShadowSaturation | 8 |
SubjectDistanceRange | Unknown |
Tint | +5 |
ToneCurveName2012 | Linear |
ToneCurvePV2012 | 0, 0, 255, 255 |
ToneCurvePV2012Blue | 0, 0, 255, 255 |
ToneCurvePV2012Green | 0, 0, 255, 255 |
ToneCurvePV2012Red | 0, 0, 255, 255 |
Version | 7.1 |
Vibrance | -49 |
VignetteAmount | 0 |
WhiteBalance (1) | As Shot |
WhiteBalance | Auto |
Whites2012 | 0 |