Felt | Verdi |
AlreadyApplied | True |
Aperture | 4.0 |
ApertureValue | 4.0 |
ApproximateFocusDistance | 2.09 |
Artist | Ivar Isaksen |
BitsPerSample | 8 |
BlueHue | 0 |
BlueSaturation | 0 |
Brightness | +50 |
By-line | Ivar Isaksen |
CameraProfile | Adobe Standard |
ChromaticAberrationB | 0 |
ChromaticAberrationR | 0 |
CircleOfConfusion | 0.019 mm |
City | Skjervøy |
Clarity | 0 |
ColorComponents | 3 |
ColorNoiseReduction | 25 |
ColorNoiseReductionDetail | 50 |
ColorTemperature | 3682 |
Contrast | +25 |
ConvertToGrayscale | False |
Copyright | Ivar Isaksen |
CopyrightFlag | True |
CopyrightNotice | Ivar Isaksen |
Country | Norge |
Country-PrimaryLocationName | Norge |
CreateDate (1) | 2012:03:14 21:46:34.58 |
CreateDate | 2012:03:14 21:46:34 |
Creator | Ivar Isaksen |
CreatorAddress | Rønning Østgaardsvei 26 |
CreatorCity | SKJERVØY |
CreatorCountry | NORWAY |
CreatorPostalCode | 9180 |
CreatorRegion | SKJERVØY |
CreatorTool | Adobe Photoshop Lightroom 3.6 (Windows) |
CreatorWorkEmail | ivar@trollnet.no |
CreatorWorkTelephone | +47 959 09 473 |
CreatorWorkURL | ivar@isaksen.org |
CropAngle | -1.239 |
CropBottom | 0.974532 |
CropConstrainToWarp | 0 |
CropHeight | 617 |
CropLeft | 0.008684 |
CropRight | 0.807681 |
CropTop | 0.031423 |
CropUnit | pixels |
CropWidth | 750 |
CustomRendered | Normal |
DateCreated (1) | 2012:03:14 |
DateCreated | 2012:03:14 21:46:34.58 |
DateTimeOriginal | 2012:03:14 21:46:34 |
Defringe | 0 |
DOF | inf (0.81 m - inf) |
Exposure | +1.53 |
ExposureCompensation | 0 |
ExposureMode | Manual |
ExposureProgram | Manual |
ExposureTime | 6 |
FillLight | 0 |
Firmware | 1.2.1 |
Flash | Off, Did not fire |
FlashCompensation | 0 |
FNumber | 4.0 |
FocalLength | 10.0 mm |
FocalLength35efl | 10.0 mm (35 mm equivalent: 15.7 mm) |
Format | image/jpeg |
FOV | 97.8 deg |
GrainAmount | 0 |
GreenHue | 0 |
GreenSaturation | 0 |
HasCrop | True |
HasSettings | True |
HighlightRecovery | 0 |
HueAdjustmentAqua | 0 |
HueAdjustmentBlue | 0 |
HueAdjustmentGreen | 0 |
HueAdjustmentMagenta | 0 |
HueAdjustmentOrange | 0 |
HueAdjustmentPurple | 0 |
HueAdjustmentRed | 0 |
HueAdjustmentYellow | 0 |
HyperfocalDistance | 1.31 m |
ImageHeight | 617 |
ImageNumber | 0 |
ImageSize | 750x617 |
ImageWidth | 750 |
ISO | 1600 |
Keywords | Nordlys 2012 |
Lens | 10-20mm |
LensID (1) | 152 |
LensID | Sigma 10-20mm f/4-5.6 |
LensInfo | 10-20mm f/? |
LensManualDistortionAmount | 0 |
LensModel | 10-20mm |
LensProfileEnable | 0 |
LensProfileSetup | LensDefaults |
LightValue | -2.6 |
LuminanceAdjustmentAqua | 0 |
LuminanceAdjustmentBlue | 0 |
LuminanceAdjustmentGreen | 0 |
LuminanceAdjustmentMagenta | 0 |
LuminanceAdjustmentOrange | 0 |
LuminanceAdjustmentPurple | 0 |
LuminanceAdjustmentRed | 0 |
LuminanceAdjustmentYellow | 0 |
LuminanceNoiseReductionContrast | 0 |
LuminanceNoiseReductionDetail | 27 |
LuminanceSmoothing | 93 |
Make | Canon |
Marked | True |
MaxApertureValue | 4.0 |
Megapixels | 0.463 |
MeteringMode | Center-weighted average |
Model | Canon EOS 7D |
ModifyDate (1) | 2012:03:19 11:13:18+01:00 |
ModifyDate | 2012:03:19 11:13:18 |
ParametricDarks | 0 |
ParametricHighlights | +33 |
ParametricHighlightSplit | 75 |
ParametricLights | +4 |
ParametricMidtoneSplit | 50 |
ParametricShadows | -10 |
ParametricShadowSplit | 25 |
PerspectiveHorizontal | 0 |
PerspectiveRotate | 0.0 |
PerspectiveScale | 100 |
PerspectiveVertical | 0 |
PostCropVignetteAmount | 0 |
ProcessVersion | 5.7 |
ProfileDescription | sRGB IEC61966-2.1 |
RedHue | 0 |
RedSaturation | 0 |
Rights | Ivar Isaksen |
Saturation | 0 |
SaturationAdjustmentAqua | 0 |
SaturationAdjustmentBlue | 0 |
SaturationAdjustmentGreen | 0 |
SaturationAdjustmentMagenta | 0 |
SaturationAdjustmentOrange | 0 |
SaturationAdjustmentPurple | 0 |
SaturationAdjustmentRed | 0 |
SaturationAdjustmentYellow | 0 |
ScaleFactor35efl | 1.6 |
SceneCaptureType | Standard |
SerialNumber | 1080707387 |
Shadows | 5 |
ShadowTint | 0 |
SharpenDetail | 62 |
SharpenEdgeMasking | 78 |
SharpenRadius | +0.6 |
Sharpness | 88 |
ShutterSpeed | 6 |
ShutterSpeedValue | 6 |
Software | Adobe Photoshop Lightroom 3.6 (Windows) |
SplitToningBalance | 0 |
SplitToningHighlightHue | 0 |
SplitToningHighlightSaturation | 0 |
SplitToningShadowHue | 0 |
SplitToningShadowSaturation | 0 |
Subject | Nordlys 2012 |
SubjectDistance | 2.09 m |
Tint | +46 |
ToneCurve | 0, 0, 32, 22, 64, 56, 128, 128, 192, 196, 255, 255 |
ToneCurveName | Medium Contrast |
Version | 6.6 |
Vibrance | 0 |
VignetteAmount | 0 |
WhiteBalance (1) | Custom |
WhiteBalance | Auto |