Felt | Verdi |
AlreadyApplied | True |
Aperture | 5.6 |
ApertureValue | 5.6 |
ApproximateFocusDistance | 2.37 |
BitsPerSample | 8 |
BlueHue | 0 |
BlueSaturation | 0 |
Brightness | +50 |
CameraProfile | Adobe Standard |
CFAPattern | [Green,Blue][Red,Green] |
ChromaticAberrationB | 0 |
ChromaticAberrationR | 0 |
CircleOfConfusion | 0.020 mm |
Clarity | +75 |
ColorComponents | 3 |
ColorMode | RGB |
ColorNoiseReduction | 25 |
ColorNoiseReductionDetail | 50 |
ColorSpace | Uncalibrated |
ColorTemperature | 3950 |
Contrast (1) | +75 |
Contrast | Normal |
ConvertToGrayscale | False |
CreateDate (1) | 2011:03:06 12:43:41.50+01:00 |
CreateDate | 2011:03:06 12:43:41 |
CreatorTool | Ver.1.00 |
CustomRendered | Normal |
DateCreated (1) | 2011:03:06 |
DateCreated | 2011:03:06 12:43:41.05 |
DateTimeOriginal | 2011:03:06 12:43:41 |
Defringe | 0 |
DigitalZoomRatio | 1 |
DOF | 0.05 m (2.34 - 2.40 m) |
ExifImageHeight | 3872 |
ExifImageWidth | 2592 |
Exposure | +0.30 |
ExposureCompensation | 0 |
ExposureMode | Manual |
ExposureProgram | Manual |
ExposureTime | 1/80 |
FillLight | 0 |
Flash | No Flash |
FNumber | 5.6 |
FocalLength | 150.0 mm |
FocalLength35efl | 150.0 mm (35 mm equivalent: 225.0 mm) |
FocalLengthIn35mmFormat | 225 mm |
Format | image/jpeg |
FOV | 9.1 deg |
GainControl | Low gain up |
GrainAmount | 0 |
GreenHue | 0 |
GreenSaturation | 0 |
HasCrop | False |
HasSettings | True |
HighlightRecovery | 0 |
HueAdjustmentAqua | 0 |
HueAdjustmentBlue | 0 |
HueAdjustmentGreen | 0 |
HueAdjustmentMagenta | 0 |
HueAdjustmentOrange | 0 |
HueAdjustmentPurple | 0 |
HueAdjustmentRed | 0 |
HueAdjustmentYellow | 0 |
HyperfocalDistance | 200.58 m |
ICCProfileName | Adobe RGB (1998) |
ImageHeight | 3872 |
ImageNumber | 13617 |
ImageSize | 2592x3872 |
ImageWidth | 2592 |
ISO | 400 |
Lens | 55.0-300.0 mm f/4.5-5.6 |
LensID (1) | 172 |
LensID | AF-S DX Nikkor 55-300mm f/4.5-5.6G ED VR |
LensInfo | 55-300mm f/4.5-5.6 |
LensManualDistortionAmount | 0 |
LensModel | 55.0-300.0 mm f/4.5-5.6 |
LensProfileEnable | 0 |
LensProfileSetup | LensDefaults |
LightSource | Unknown |
LightValue | 9.3 |
LuminanceAdjustmentAqua | 0 |
LuminanceAdjustmentBlue | 0 |
LuminanceAdjustmentGreen | 0 |
LuminanceAdjustmentMagenta | 0 |
LuminanceAdjustmentOrange | 0 |
LuminanceAdjustmentPurple | 0 |
LuminanceAdjustmentRed | 0 |
LuminanceAdjustmentYellow | 0 |
LuminanceSmoothing | 0 |
Make | NIKON CORPORATION |
MaxApertureValue | 4.8 |
Megapixels | 10.0 |
MeteringMode | Multi-segment |
Model | NIKON D3000 |
ModifyDate (1) | 2011:03:06 21:37:24+01:00 |
ModifyDate | 2011:03:06 21:37:24 |
Orientation | Horizontal (normal) |
ParametricDarks | 0 |
ParametricHighlights | 0 |
ParametricHighlightSplit | 75 |
ParametricLights | 0 |
ParametricMidtoneSplit | 50 |
ParametricShadows | 0 |
ParametricShadowSplit | 25 |
PerspectiveHorizontal | 0 |
PerspectiveRotate | 0.0 |
PerspectiveScale | 100 |
PerspectiveVertical | 0 |
PostCropVignetteAmount | 0 |
ProcessVersion | 5.7 |
ProfileDescription | Adobe RGB (1998) |
Rating | 0 |
RawFileName | DSC_9483.NEF |
RedHue | 0 |
RedSaturation | 0 |
Saturation (1) | 0 |
Saturation | Normal |
SaturationAdjustmentAqua | 0 |
SaturationAdjustmentBlue | 0 |
SaturationAdjustmentGreen | 0 |
SaturationAdjustmentMagenta | 0 |
SaturationAdjustmentOrange | 0 |
SaturationAdjustmentPurple | 0 |
SaturationAdjustmentRed | 0 |
SaturationAdjustmentYellow | 0 |
ScaleFactor35efl | 1.5 |
SceneCaptureType | Standard |
SceneType | Directly photographed |
SensingMethod | One-chip color area |
SensitivityType | Unknown |
SerialNumber | 6004450 |
Shadows | 5 |
ShadowTint | 0 |
SharpenDetail | 25 |
SharpenEdgeMasking | 0 |
SharpenRadius | +1.0 |
Sharpness (1) | 25 |
Sharpness | Hard |
ShutterSpeed | 1/80 |
ShutterSpeedValue | 1/80 |
Software | Adobe Photoshop CS5 Windows |
SplitToningBalance | 0 |
SplitToningHighlightHue | 0 |
SplitToningHighlightSaturation | 0 |
SplitToningShadowHue | 0 |
SplitToningShadowSaturation | 0 |
SubjectDistance | 2.37 m |
SubjectDistanceRange | Unknown |
Tint | -6 |
ToneCurve | 0, 0, 32, 22, 64, 56, 128, 128, 192, 196, 255, 255 |
ToneCurveName | Medium Contrast |
URL_List | |
UserComment | tom.kismul@gmail.com |
Version | 6.2 |
Vibrance | +15 |
VignetteAmount | 0 |
WhiteBalance (1) | Custom |
WhiteBalance | Auto |