Felt | Verdi |
AlreadyApplied | True |
Aperture | 2.2 |
ApertureValue | 2.2 |
BitsPerSample | 8 |
BlueHue | 0 |
BlueSaturation | 0 |
Brightness | +50 |
CameraProfile | Adobe Standard |
CFAPattern | [Red,Green][Green,Blue] |
ChromaticAberrationB | 0 |
ChromaticAberrationR | 0 |
CircleOfConfusion | 0.020 mm |
Clarity | -24 |
ColorComponents | 3 |
ColorNoiseReduction | 25 |
ColorTemperature | 3700 |
Contrast (2) | +100 |
Contrast | Normal |
ConvertToGrayscale | False |
CreateDate (1) | 2010:12:15 20:21:57.32+01:00 |
CreateDate | 2010:12:15 20:21:57 |
CreatorTool | Adobe Photoshop Lightroom |
CropAngle | 0 |
CropBottom | 0.978022 |
CropHeight | 2785 |
CropLeft | 0.077859 |
CropRight | 1 |
CropTop | 0 |
CropUnit | pixels |
CropWidth | 3954 |
CustomRendered | Normal |
DateTimeOriginal (1) | 2010:12:15 20:21:57.32+01:00 |
DateTimeOriginal | 2010:12:15 20:21:57 |
Defringe | 0 |
DigitalZoomRatio | 1 |
DOF | 0.016 m (1.182 - 1.198 m) |
ExifImageHeight | 564 |
ExifImageWidth | 800 |
Exposure | +0.29 |
ExposureCompensation | 0 |
ExposureMode | Manual |
ExposureProgram | Manual |
ExposureTime | 1/100 |
FillLight | 0 |
Flash | On, Return not detected |
FlashFired | True |
FlashFunction | False |
FlashMode | On |
FlashRedEyeMode | False |
FlashReturn | Return not detected |
FNumber | 2.2 |
FocalLength | 85.0 mm |
FocalLength35efl | 85.0 mm (35 mm equivalent: 127.0 mm) |
FocalLengthIn35mmFormat | 127 mm |
FOV | 16.1 deg |
GainControl | Low gain up |
GreenHue | 0 |
GreenSaturation | 0 |
HasCrop | True |
HasSettings | True |
HighlightRecovery | 0 |
HueAdjustmentAqua | 0 |
HueAdjustmentBlue | 0 |
HueAdjustmentGreen | 0 |
HueAdjustmentMagenta | 0 |
HueAdjustmentOrange | 0 |
HueAdjustmentPurple | 0 |
HueAdjustmentRed | 0 |
HueAdjustmentYellow | 0 |
HyperfocalDistance | 163.31 m |
ImageHeight (1) | 2785 |
ImageHeight | 564 |
ImageNumber | 40593 |
ImageSize | 800x564 |
ImageWidth (1) | 3954 |
ImageWidth | 800 |
ISO | 500 |
Lens | 85.0 mm f/1.8 |
LensID (1) | 56 |
LensID | AF Nikkor 85mm f/1.8D |
LensInfo | 85mm f/1.8 |
LightSource | Unknown |
LightValue | 6.6 |
LuminanceAdjustmentAqua | 0 |
LuminanceAdjustmentBlue | 0 |
LuminanceAdjustmentGreen | 0 |
LuminanceAdjustmentMagenta | 0 |
LuminanceAdjustmentOrange | -50 |
LuminanceAdjustmentPurple | 0 |
LuminanceAdjustmentRed | 0 |
LuminanceAdjustmentYellow | -81 |
LuminanceSmoothing | 0 |
Make | NIKON CORPORATION |
MaxApertureValue | 1.7 |
Megapixels | 0.451 |
MeteringMode | Multi-segment |
Model | NIKON D300 |
ModifyDate (1) | 2007:06:23 20:34:31+02:00 |
ModifyDate | 2007:06:23 20:34:31 |
PaintCorrectionActive | true |
PaintCorrectionAmount | 1.000000 |
PaintCorrectionBrightness | 0.000000 |
PaintCorrectionClarity (1) | 1.000000 |
PaintCorrectionClarity | 0.000000 |
PaintCorrectionContrast | 0.000000 |
PaintCorrectionExposure (2) | 0.025000 |
PaintCorrectionExposure | 0.000000 |
PaintCorrectionHue | 0.000000 |
PaintCorrectionMaskCenterWeight | 0.333540 |
PaintCorrectionMaskFlow | 1.000000 |
PaintCorrectionMaskRadius (1) | 0.013287 |
PaintCorrectionMaskRadius | 0.052475 |
PaintCorrectionMaskValue | 1.000000 |
PaintCorrectionMaskWhat | Mask/Paint |
PaintCorrectionSaturation | 0.000000 |
PaintCorrectionSharpness | 0.000000 |
PaintCorrectionWhat | Correction |
ParametricDarks | 0 |
ParametricHighlights | 0 |
ParametricHighlightSplit | 75 |
ParametricLights | 0 |
ParametricMidtoneSplit | 50 |
ParametricShadows | 0 |
ParametricShadowSplit | 25 |
PostCropVignetteAmount | 0 |
RedHue | 0 |
RedSaturation | 0 |
RelatedImageHeight | 2785 |
RelatedImageWidth | 3954 |
Saturation (2) | 0 |
Saturation | Normal |
SaturationAdjustmentAqua | 0 |
SaturationAdjustmentBlue | -100 |
SaturationAdjustmentGreen | 0 |
SaturationAdjustmentMagenta | 0 |
SaturationAdjustmentOrange | 0 |
SaturationAdjustmentPurple | 0 |
SaturationAdjustmentRed | 0 |
SaturationAdjustmentYellow | 0 |
ScaleFactor35efl | 1.5 |
SceneCaptureType | Standard |
SceneType | Directly photographed |
SensingMethod | One-chip color area |
SerialNumber | 2076716 |
Shadows | 11 |
ShadowTint | 0 |
SharpenDetail | 25 |
SharpenEdgeMasking | 88 |
SharpenRadius | +1.5 |
Sharpness (2) | 50 |
Sharpness | Hard |
ShutterSpeed | 1/100 |
ShutterSpeedValue | 1/100 |
Software | Ver.1.10 |
SplitToningBalance | 0 |
SplitToningHighlightHue | 0 |
SplitToningHighlightSaturation | 0 |
SplitToningShadowHue | 0 |
SplitToningShadowSaturation | 0 |
SubjectDistance | 1.19 m |
SubjectDistanceRange | Unknown |
Tint | -5 |
ToneCurve | 0, 0, 32, 22, 64, 56, 128, 128, 192, 196, 255, 255 |
ToneCurveName | Medium Contrast |
Version | 5.7 |
Vibrance | 0 |
VignetteAmount | -100 |
VignetteMidpoint | 50 |
WhiteBalance (2) | As Shot |
WhiteBalance | Manual |