Felt | Verdi |
AlreadyApplied | True |
Aperture | 10.0 |
ApertureValue | 10.0 |
Artist | Tom Eikrem |
BitsPerSample | 8 |
BlueHue | +11 |
BlueSaturation | -70 |
Brightness | +57 |
By-line | Tom Eikrem |
CameraProfile | Adobe Standard |
ChromaticAberrationB | 0 |
ChromaticAberrationR | 0 |
CircleOfConfusion | 0.019 mm |
Clarity | +29 |
ColorComponents | 3 |
ColorMode | RGB |
ColorNoiseReduction | 58 |
ColorSpace | sRGB |
ColorTemperature | 12500 |
Contrast | +70 |
ConvertToGrayscale | False |
Copyright | Tom Eikrem |
CopyrightFlag | False |
CopyrightNotice | Tom Eikrem |
CreateDate (1) | 2010:01:17 17:16:56+01:00 |
CreateDate | 2010:01:09 16:04:48 |
Creator | Tom Eikrem |
CreatorTool | Adobe Photoshop Elements 6.0 Windows |
CreatorWorkTelephone | 004748223077 |
CropAngle | 0 |
CropBottom | 0.732938 |
CropHeight | 1900 |
CropLeft | 0.022256 |
CropRight | 0.510881 |
CropTop | 0 |
CropUnit | pixels |
CropWidth | 1900 |
CustomRendered | Normal |
DateAcquired | 2010:01:10 00:18:08 |
DateTimeDigitized | 2010:01:09 16:04:48.00+01:00 |
DateTimeOriginal (1) | 2010:01:09 16:04:48.00+01:00 |
DateTimeOriginal | 2010:01:09 16:04:48 |
Defringe | 0 |
DOF | inf (3.59 m - inf) |
ExifImageHeight | 625 |
ExifImageWidth | 625 |
Exposure | +0.67 |
ExposureCompensation | -1 |
ExposureMode | Auto |
ExposureProgram | Aperture-priority AE |
ExposureTime | 4 |
FillLight | 0 |
Firmware | 1.1.1 |
Flash | Off, Did not fire |
FlashCompensation | 0 |
FlashFired | False |
FlashFunction | False |
FlashMode | Off |
FlashRedEyeMode | False |
FlashReturn | No return detection |
FNumber | 10.0 |
FocalLength | 33.0 mm |
FocalLength35efl | 33.0 mm (35 mm equivalent: 53.4 mm) |
Format | image/jpeg |
FOV | 37.2 deg |
GreenHue | +11 |
GreenSaturation | +25 |
HasCrop | True |
HasSettings | True |
HighlightRecovery | 100 |
HueAdjustmentAqua | 0 |
HueAdjustmentBlue | 0 |
HueAdjustmentGreen | 0 |
HueAdjustmentMagenta | 0 |
HueAdjustmentOrange | 0 |
HueAdjustmentPurple | 0 |
HueAdjustmentRed | 0 |
HueAdjustmentYellow | 0 |
HyperfocalDistance | 5.87 m |
ICCProfileName | sRGB IEC61966-2.1 |
ImageHeight (1) | 1900 |
ImageHeight | 625 |
ImageNumber | 0 |
ImageSize | 625x625 |
ImageWidth (1) | 1900 |
ImageWidth | 625 |
ISO | 160 |
Lens | EF-S17-55mm f/2.8 IS USM |
LensID (1) | 240 |
LensID | Canon EF-S 17-55mm f/2.8 IS USM |
LensInfo | 17-55mm f/? |
LightValue | 4.0 |
LuminanceAdjustmentAqua | 0 |
LuminanceAdjustmentBlue | 0 |
LuminanceAdjustmentGreen | 0 |
LuminanceAdjustmentMagenta | 0 |
LuminanceAdjustmentOrange | 0 |
LuminanceAdjustmentPurple | 0 |
LuminanceAdjustmentRed | 0 |
LuminanceAdjustmentYellow | 0 |
LuminanceSmoothing | 56 |
Make | Canon |
MaxApertureValue | 2.8 |
Megapixels | 0.391 |
MeteringMode | Spot |
Model | Canon EOS 40D |
ModifyDate (1) | 2010:01:17 17:16:56+01:00 |
ModifyDate | 2010:01:17 17:16:56 |
Orientation | Horizontal (normal) |
ParametricDarks | +21 |
ParametricHighlights | -10 |
ParametricHighlightSplit | 75 |
ParametricLights | +55 |
ParametricMidtoneSplit | 50 |
ParametricShadows | -55 |
ParametricShadowSplit | 25 |
PostCropVignetteAmount | 0 |
ProfileDescription | sRGB IEC61966-2.1 |
RedHue | +96 |
RedSaturation | +3 |
Rights | Tom Eikrem |
Saturation | -71 |
SaturationAdjustmentAqua | 0 |
SaturationAdjustmentBlue | 0 |
SaturationAdjustmentGreen | 0 |
SaturationAdjustmentMagenta | 0 |
SaturationAdjustmentOrange | 0 |
SaturationAdjustmentPurple | 0 |
SaturationAdjustmentRed | 0 |
SaturationAdjustmentYellow | 0 |
ScaleFactor35efl | 1.6 |
SceneCaptureType | Standard |
SerialNumber | 630332843 |
Shadows | 11 |
ShadowTint | +8 |
SharpenDetail | 71 |
SharpenEdgeMasking | 0 |
SharpenRadius | +0.7 |
Sharpness | 77 |
ShutterSpeed | 4 |
ShutterSpeedValue | 4 |
Software | Adobe Photoshop Elements 6.0 Windows |
SplitToningBalance | 0 |
SplitToningHighlightHue | 0 |
SplitToningHighlightSaturation | 0 |
SplitToningShadowHue | 0 |
SplitToningShadowSaturation | 0 |
SubjectDistance | 9.22 m |
Tint | +35 |
ToneCurve | 0, 0, 255, 255 |
ToneCurveName | Linear |
URL_List | |
Version | 5.6 |
Vibrance | +10 |
VignetteAmount | -61 |
VignetteMidpoint | 34 |
WhiteBalance (2) | Custom |
WhiteBalance | Auto |