Felt | Verdi |
AlreadyApplied | True |
Aperture | 5.6 |
ApertureValue | 5.6 |
BitsPerSample | 8 |
BlueHue | -30 |
BlueSaturation | +27 |
Brightness | +50 |
CameraProfile | ACR 4.2 |
ChromaticAberrationB | -7 |
ChromaticAberrationR | -5 |
CircleOfConfusion | 0.019 mm |
Clarity | 73 |
ColorComponents | 1 |
ColorMode | Grayscale |
ColorSpace (1) | Unknown (-1) |
ColorSpace | Uncalibrated |
ColorTemperature | 4800 |
Contrast | +29 |
ConvertToGrayscale | True |
CopyrightFlag | False |
CreateDate (1) | 2008:06:02 19:54:03+02:00 |
CreateDate | 2008:05:30 18:55:03 |
CreatorTool | Adobe Photoshop CS3 Windows |
CustomRendered | Normal |
DateTimeDigitized | 2008:05:30 18:55:03.01+02:00 |
DateTimeOriginal (1) | 2008:05:30 18:55:03.01+02:00 |
DateTimeOriginal | 2008:05:30 18:55:03 |
Defringe | 0 |
ExifImageHeight | 2592 |
ExifImageWidth | 3888 |
Exposure | -0.15 |
ExposureCompensation | 0 |
ExposureMode | Manual |
ExposureProgram | Manual |
ExposureTime | 1/250 |
FillLight | 50 |
Firmware | 1.0.3 |
Flash | On, Fired |
FlashCompensation | 0 |
FlashFired | True |
FlashFunction | False |
FlashMode | On |
FlashRedEyeMode | False |
FlashReturn | No return detection |
FNumber | 5.6 |
FocalLength | 50.0 mm |
FocalLength35efl | 50.0 mm (35 mm equivalent: 80.9 mm) |
Format | image/jpeg |
FOV | 25.1 deg |
GrayMixerAqua | -12 |
GrayMixerBlue | +18 |
GrayMixerGreen | -24 |
GrayMixerMagenta | +23 |
GrayMixerOrange | -38 |
GrayMixerPurple | +29 |
GrayMixerRed | -46 |
GrayMixerYellow | +6 |
GreenHue | -66 |
GreenSaturation | -68 |
HasCrop | False |
HasSettings | True |
HighlightRecovery | 15 |
HyperfocalDistance | 24.05 m |
ICCProfileName | Gray Gamma 2.2 |
ImageHeight | 2592 |
ImageNumber | 0 |
ImageSize | 3888x2592 |
ImageWidth | 3888 |
ISO | 400 |
Lens | EF-S17-85mm f/4-5.6 IS USM |
LensInfo | 17-85mm f/? |
LightValue | 10.9 |
LuminanceSmoothing | 0 |
Make | Canon |
MaxApertureValue | 5.4 |
Megapixels | 10.1 |
MeteringMode | Multi-segment |
Model | Canon EOS 40D |
ModifyDate (1) | 2008:06:02 19:54:03+02:00 |
ModifyDate | 2008:06:02 19:54:03 |
Orientation | Horizontal (normal) |
ParametricDarks | -18 |
ParametricHighlights | -32 |
ParametricHighlightSplit | 75 |
ParametricLights | +61 |
ParametricMidtoneSplit | 50 |
ParametricShadows | -21 |
ParametricShadowSplit | 25 |
ProfileDescription | Gray Gamma 2.2 |
Rating | 0 |
RawFileName | IMG_3188.CR2 |
RedHue | -100 |
RedSaturation | -74 |
ScaleFactor35efl | 1.6 |
SceneCaptureType | Standard |
SerialNumber | 630325463 |
Shadows | 4 |
ShadowTint | -94 |
SharpenDetail | 25 |
SharpenEdgeMasking | 0 |
SharpenRadius | +1.0 |
Sharpness | 25 |
ShutterSpeed | 1/250 |
ShutterSpeedValue | 1/250 |
SidecarForExtension | CR2 |
Software | Adobe Photoshop CS3 Windows |
SplitToningBalance | 0 |
SplitToningHighlightHue | 0 |
SplitToningHighlightSaturation | 0 |
SplitToningShadowHue | 0 |
SplitToningShadowSaturation | 0 |
Tint | 0 |
ToneCurve | 0, 0, 32, 22, 64, 56, 128, 128, 192, 196, 255, 255 |
ToneCurveName | Medium Contrast |
URL_List | |
Version | 4.3.1 |
VignetteAmount | -61 |
VignetteMidpoint | 17 |
WhiteBalance (2) | Custom |
WhiteBalance | Auto |