Felt | Verdi |
AlreadyApplied | True |
Aperture | 7.1 |
ApertureValue | 7.1 |
ApproximateFocusDistance | 4294967295 |
Artist | KURT S HELGESENN |
AutoLateralCA | 1 |
BitsPerSample | 8 |
Blacks2012 | +39 |
BlueHue | +2 |
BlueSaturation | -23 |
By-line | KURT S HELGESENN |
CameraProfile | Adobe Standard |
CFAPattern | [Red,Green][Green,Blue] |
CircleOfConfusion | 0.020 mm |
Clarity2012 | +37 |
ColorComponents | 3 |
ColorGradeBlending | 50 |
ColorGradeGlobalHue | 0 |
ColorGradeGlobalLum | 0 |
ColorGradeGlobalSat | 0 |
ColorGradeHighlightLum | +58 |
ColorGradeMidtoneHue | 0 |
ColorGradeMidtoneLum | +32 |
ColorGradeMidtoneSat | 0 |
ColorGradeShadowLum | +11 |
ColorNoiseReduction | 25 |
ColorNoiseReductionDetail | 50 |
ColorNoiseReductionSmoothness | 50 |
ColorSpace | sRGB |
ColorTemperature | 5450 |
ColorTransform | YCbCr |
CompatibleVersion | 234881024 |
Contrast | Normal |
Contrast2012 | +18 |
Copyright | KURT S HELGESEN |
CopyrightNotice | KURT S HELGESEN |
CreateDate (1) | 2021:05:11 18:24:45.22 |
CreateDate | 2021:05:11 18:24:45 |
Creator | KURT S HELGESENN |
CreatorTool | Adobe Photoshop Lightroom Classic 11.1 (Windows) |
CropAngle | 0 |
CropBottom | 0.689655 |
CropConstrainToWarp | 0 |
CropLeft | 0.173459 |
CropRight | 1 |
CropTop | 0 |
CustomRendered | Normal |
DateCreated (1) | 2021:05:11 |
DateCreated | 2021:05:11 18:24:45.22 |
DateTimeOriginal | 2021:05:11 18:24:45 |
DefringeGreenAmount | 0 |
DefringeGreenHueHi | 60 |
DefringeGreenHueLo | 40 |
DefringePurpleAmount | 0 |
DefringePurpleHueHi | 70 |
DefringePurpleHueLo | 30 |
Dehaze | +32 |
DistortionCorrectionAlreadyApplied | True |
DOF | inf (8.53 m - inf) |
Exposure2012 | +0.18 |
ExposureCompensation | -5/3 |
ExposureMode | Auto |
ExposureProgram | Aperture-priority AE |
ExposureTime | 1/500 |
Flash | No Flash |
FNumber | 7.1 |
FocalLength | 35.0 mm |
FocalLength35efl | 35.0 mm (35 mm equivalent: 52.0 mm) |
FocalLengthIn35mmFormat | 52 mm |
Format | image/jpeg |
FOV | 38.2 deg |
GainControl | None |
GrainAmount | 0 |
GreenHue | 0 |
GreenSaturation | 0 |
HasCrop | True |
HasSettings | True |
Highlights2012 | -100 |
HueAdjustmentAqua | +8 |
HueAdjustmentBlue | 0 |
HueAdjustmentGreen | 0 |
HueAdjustmentMagenta | 0 |
HueAdjustmentOrange | -10 |
HueAdjustmentPurple | 0 |
HueAdjustmentRed | -3 |
HueAdjustmentYellow | +25 |
HyperfocalDistance | 8.53 m |
ImageHeight | 1139 |
ImageNumber | 7800 |
ImageSize | 2048x1139 |
ImageWidth | 2048 |
ISO | 200 |
LateralChromaticAberrationCorrectionAlreadyApplied | True |
Lens | 35.0 mm f/1.8 |
LensID (1) | 159 |
LensID | AF-S DX Nikkor 35mm f/1.8G |
LensInfo | 35mm f/1.8 |
LensManualDistortionAmount | 0 |
LensModel | 35.0 mm f/1.8 |
LensProfileDistortionScale | 100 |
LensProfileEnable | 1 |
LensProfileFilename | NIKON D90 (Nikon AF-S DX NIKKOR 35mm f1.8G) - RAW.lcp |
LensProfileIsEmbedded | False |
LensProfileName | Adobe (Nikon AF-S DX NIKKOR 35mm f/1.8G) |
LensProfileSetup | LensDefaults |
LensProfileVignettingScale | 100 |
LightSource | Unknown |
LightValue | 13.6 |
LookAmount | 1 |
LookGroup | Profiles |
LookName | Adobe Landscape |
LookParametersCameraProfile | Adobe Standard |
LookParametersClarity2012 | +10 |
LookParametersConvertToGrayscale | False |
LookParametersHighlights2012 | -12 |
LookParametersLookTable | 0B3BFB5CFB7DBF7FF175E98F24D316B0 |
LookParametersProcessVersion | 11.0 |
LookParametersShadows2012 | +12 |
LookParametersToneCurvePV2012 | 0, 0, 64, 60, 128, 128, 192, 196, 255, 255 |
LookParametersVersion | 14.1 |
LookSupportsAmount | false |
LookSupportsMonochrome | false |
LookSupportsOutputReferred | false |
LuminanceAdjustmentAqua | +3 |
LuminanceAdjustmentBlue | 0 |
LuminanceAdjustmentGreen | +15 |
LuminanceAdjustmentMagenta | 0 |
LuminanceAdjustmentOrange | +35 |
LuminanceAdjustmentPurple | 0 |
LuminanceAdjustmentRed | +7 |
LuminanceAdjustmentYellow | +40 |
LuminanceSmoothing | 0 |
Make | NIKON CORPORATION |
MaxApertureValue | 1.7 |
Megapixels | 2.3 |
MeteringMode | Multi-segment |
Model | NIKON D500 |
ModifyDate (1) | 2022:01:31 19:47:15+01:00 |
ModifyDate | 2022:01:31 19:47:15 |
OverrideLookVignette | False |
ParametricDarks | 0 |
ParametricHighlights | 0 |
ParametricHighlightSplit | 75 |
ParametricLights | 0 |
ParametricMidtoneSplit | 50 |
ParametricShadows | 0 |
ParametricShadowSplit | 25 |
PerspectiveAspect | 0 |
PerspectiveHorizontal | 0 |
PerspectiveRotate | 0.0 |
PerspectiveScale | 100 |
PerspectiveUpright | 0 |
PerspectiveVertical | 0 |
PerspectiveX | 0.00 |
PerspectiveY | 0.00 |
PostCropVignetteAmount | 0 |
PreservedFileName | _DSC7232.NEF |
ProcessVersion | 11.0 |
ProfileDescription | sRGB IEC61966-2.1 |
RawFileName | _DSC7232.NEF |
RedHue | 0 |
RedSaturation | 0 |
Rights | KURT S HELGESEN |
Saturation (1) | +2 |
Saturation | Normal |
SaturationAdjustmentAqua | -20 |
SaturationAdjustmentBlue | 0 |
SaturationAdjustmentGreen | +20 |
SaturationAdjustmentMagenta | 0 |
SaturationAdjustmentOrange | +37 |
SaturationAdjustmentPurple | 0 |
SaturationAdjustmentRed | +13 |
SaturationAdjustmentYellow | +30 |
ScaleFactor35efl | 1.5 |
SceneCaptureType | Landscape |
SceneType | Directly photographed |
SensingMethod | One-chip color area |
SensitivityType | Recommended Exposure Index |
SerialNumber | 6053470 |
Shadows2012 | +51 |
ShadowTint | 0 |
SharpenDetail | 82 |
SharpenEdgeMasking | 100 |
SharpenRadius | +1.3 |
Sharpness (1) | 26 |
Sharpness | Normal |
ShutterSpeed | 1/500 |
ShutterSpeedValue | 1/500 |
Software | Adobe Photoshop Lightroom Classic 11.1 (Windows) |
SplitToningBalance | 0 |
SplitToningHighlightHue | 0 |
SplitToningHighlightSaturation | 0 |
SplitToningShadowHue | 0 |
SplitToningShadowSaturation | 0 |
SubjectDistanceRange | Unknown |
Texture | +39 |
Tint | +13 |
ToneCurveName2012 | Linear |
ToneCurvePV2012 | 0, 0, 255, 255 |
ToneCurvePV2012Blue | 0, 0, 255, 255 |
ToneCurvePV2012Green | 0, 0, 255, 255 |
ToneCurvePV2012Red | 0, 0, 255, 255 |
Version | 14.1 |
Vibrance | +15 |
VignetteAmount | 0 |
VignetteCorrectionAlreadyApplied | True |
WhiteBalance (1) | As Shot |
WhiteBalance | Auto |
Whites2012 | -51 |