Felt | Verdi |
AlreadyApplied | True |
Aperture | 20.0 |
ApertureValue | 20.0 |
ApproximateFocusDistance | 4294967295 |
Artist | Fotograf : Svein Hansen |
AutoLateralCA | 1 |
AutoWhiteVersion | 134348800 |
BitsPerSample | 8 |
Blacks2012 | -13 |
BlueHue | 0 |
BlueSaturation | 0 |
By-line | Fotograf : Svein Hansen |
CameraProfile | Adobe Standard |
CircleOfConfusion | 0.029 mm |
Clarity2012 | 0 |
ColorComponents | 3 |
ColorNoiseReduction | 25 |
ColorNoiseReductionDetail | 50 |
ColorNoiseReductionSmoothness | 50 |
ColorSpace | sRGB |
ColorTemperature | 5250 |
ColorTransform | YCbCr |
Contrast2012 | 0 |
ConvertToGrayscale | False |
Copyright | © Fotograf : Svein Hansen |
CopyrightFlag | True |
CopyrightNotice | © Fotograf : Svein Hansen |
CreateDate (1) | 2015:09:07 19:55:53.91 |
CreateDate | 2015:09:07 19:55:53 |
Creator | Fotograf : Svein Hansen |
CreatorAddress | Svingen 5 |
CreatorCity | Kråkerøy |
CreatorCountry | Norge |
CreatorPostalCode | 1671 |
CreatorRegion | Østold |
CreatorTool | Adobe Photoshop Lightroom 6.1 (Windows) |
CreatorWorkEmail | post@sveinfoto.no |
CreatorWorkTelephone | 0047907+64526 |
CreatorWorkURL | www.sveinfoto.no |
CropAngle | 1.57228 |
CropBottom | 1 |
CropConstrainToWarp | 1 |
CropLeft | 0.02856 |
CropRight | 0.97144 |
CropTop | 0 |
CustomRendered | Normal |
DateCreated (1) | 2014:10:11 12:22:35.05 |
DateCreated | 2014:10:11 |
DateTimeOriginal | 2015:09:07 19:55:53 |
DefringeGreenAmount | 0 |
DefringeGreenHueHi | 60 |
DefringeGreenHueLo | 40 |
DefringePurpleAmount | 0 |
DefringePurpleHueHi | 70 |
DefringePurpleHueLo | 30 |
Dehaze | 0 |
DOF | inf (0.44 m - inf) |
Exposure2012 | 0.00 |
ExposureCompensation | 0 |
ExposureMode | Manual |
ExposureProgram | Manual |
ExposureTime | 0.5 |
Firmware | 1.3.3 |
Flash | Off, Did not fire |
FlashCompensation | 0 |
FNumber | 20.0 |
FocalLength | 16.0 mm |
FocalLength35efl | 16.0 mm (35 mm equivalent: 16.7 mm) |
Format | image/jpeg |
FOV | 94.4 deg |
GradientBasedCorrActive | true |
GradientBasedCorrAmount | 1.000000 |
GradientBasedCorrBrightness | 0.000000 |
GradientBasedCorrClarity2012 | 0.444440 |
GradientBasedCorrContrast2012 | 0.000000 |
GradientBasedCorrDefringe | 0.000000 |
GradientBasedCorrExposure2012 | -0.685250 |
GradientBasedCorrHighlights2012 | 0.314810 |
GradientBasedCorrHue | 0.000000 |
GradientBasedCorrLocalBlacks2012 | 0.000000 |
GradientBasedCorrLocalWhites2012 | -0.111110 |
GradientBasedCorrLuminanceNoise | 0.537040 |
GradientBasedCorrMaskFullX | 0.467663 |
GradientBasedCorrMaskFullY | 0.017543 |
GradientBasedCorrMaskValue | 1.000000 |
GradientBasedCorrMaskWhat | Mask/Gradient |
GradientBasedCorrMaskZeroX | 0.454892 |
GradientBasedCorrMaskZeroY | 0.477492 |
GradientBasedCorrMoire | 0.000000 |
GradientBasedCorrSaturation (1) | 0.703700 |
GradientBasedCorrSaturation | 0.000000 |
GradientBasedCorrShadows2012 | -0.074070 |
GradientBasedCorrSharpness | 1.000000 |
GradientBasedCorrTemperature | 0.000000 |
GradientBasedCorrTint | 0.000000 |
GradientBasedCorrWhat | Correction |
GrainAmount | 0 |
GreenHue | 0 |
GreenSaturation | 0 |
HasCrop | True |
HasExtendedXMP | 50AD2926EB628C2F1050EE9650B04504 |
HasSettings | True |
Headline | © Fotograf Svein Hansen |
Highlights2012 | -100 |
HueAdjustmentAqua | 0 |
HueAdjustmentBlue | 0 |
HueAdjustmentGreen | 0 |
HueAdjustmentMagenta | 0 |
HueAdjustmentOrange | 0 |
HueAdjustmentPurple | 0 |
HueAdjustmentRed | 0 |
HueAdjustmentYellow | 0 |
HyperfocalDistance | 0.44 m |
ImageHeight | 3689 |
ImageNumber | 0 |
ImageSize | 5533x3689 |
ImageWidth | 5533 |
IsMergedHDR | True |
ISO | 100 |
Keywords | Gamlebyen |
Label | Landskap |
Lens | EF16-35mm f/2.8L II USM |
LensID (1) | 246 |
LensID | Canon EF 16-35mm f/2.8L II USM |
LensInfo | 16-35mm f/? |
LensManualDistortionAmount | 0 |
LensModel | EF16-35mm f/2.8L II USM |
LensProfileChromaticAberrationScale | 100 |
LensProfileDistortionScale | 100 |
LensProfileEnable | 1 |
LensProfileFilename | Canon EOS 5D Mark II (Canon EF 16-35mm f2.8 L II USM) - RAW.lcp |
LensProfileName | Adobe (Canon EF 16-35mm f/2.8 L II USM) |
LensProfileSetup | LensDefaults |
LensProfileVignettingScale | 100 |
LensSerialNumber | 000086209c |
LightValue | 9.6 |
LuminanceAdjustmentAqua | 0 |
LuminanceAdjustmentBlue | 0 |
LuminanceAdjustmentGreen | 0 |
LuminanceAdjustmentMagenta | 0 |
LuminanceAdjustmentOrange | 0 |
LuminanceAdjustmentPurple | 0 |
LuminanceAdjustmentRed | 0 |
LuminanceAdjustmentYellow | 0 |
LuminanceSmoothing | 0 |
Make | Canon |
Marked | True |
MaxApertureValue | 2.8 |
Megapixels | 20.4 |
MeteringMode | Multi-segment |
Model | Canon EOS 5D Mark III |
ModifyDate (1) | 2015:09:08 07:04:57+02:00 |
ModifyDate | 2015:09:08 07:04:57 |
Orientation | Horizontal (normal) |
PaintCorrectionActive | true |
PaintCorrectionAmount | 1.000000 |
PaintCorrectionBrightness | 0.000000 |
PaintCorrectionClarity2012 (3) | 0.388890 |
PaintCorrectionClarity2012 (4) | 0.296300 |
PaintCorrectionClarity2012 | 0.000000 |
PaintCorrectionContrast2012 | 0.000000 |
PaintCorrectionDefringe | 0.000000 |
PaintCorrectionExposure2012 (1) | 0.055500 |
PaintCorrectionExposure2012 (2) | -0.611000 |
PaintCorrectionExposure2012 (3) | 0.129750 |
PaintCorrectionExposure2012 (4) | -0.129750 |
PaintCorrectionExposure2012 | 0.259250 |
PaintCorrectionHighlights2012 (3) | 0.425930 |
PaintCorrectionHighlights2012 | 0.000000 |
PaintCorrectionHue | 0.000000 |
PaintCorrectionLocalBlacks2012 | 0.000000 |
PaintCorrectionLocalWhites2012 | 0.000000 |
PaintCorrectionLuminanceNoise | 0.537040 |
PaintCorrectionMaskCenterWeight (3) | 0.000000 |
PaintCorrectionMaskCenterWeight | 1.000000 |
PaintCorrectionMaskFlow | 1.000000 |
PaintCorrectionMaskRadius (1) | 0.119001 |
PaintCorrectionMaskRadius (10) | 0.038258 |
PaintCorrectionMaskRadius (11) | 0.037316 |
PaintCorrectionMaskRadius (12) | 0.039286 |
PaintCorrectionMaskRadius (13) | 0.037991 |
PaintCorrectionMaskRadius (14) | 0.039222 |
PaintCorrectionMaskRadius (15) | 0.038216 |
PaintCorrectionMaskRadius (16) | 0.025644 |
PaintCorrectionMaskRadius (17) | 0.062860 |
PaintCorrectionMaskRadius (18) | 0.112706 |
PaintCorrectionMaskRadius (2) | 0.122716 |
PaintCorrectionMaskRadius (20) | 0.113028 |
PaintCorrectionMaskRadius (22) | 0.002045 |
PaintCorrectionMaskRadius (23) | 0.002087 |
PaintCorrectionMaskRadius (24) | 0.002062 |
PaintCorrectionMaskRadius (25) | 0.001602 |
PaintCorrectionMaskRadius (26) | 0.001601 |
PaintCorrectionMaskRadius (27) | 0.001580 |
PaintCorrectionMaskRadius (28) | 0.001578 |
PaintCorrectionMaskRadius (29) | 0.004619 |
PaintCorrectionMaskRadius (3) | 0.122381 |
PaintCorrectionMaskRadius (30) | 0.004627 |
PaintCorrectionMaskRadius (4) | 0.121829 |
PaintCorrectionMaskRadius (5) | 0.038688 |
PaintCorrectionMaskRadius (6) | 0.038002 |
PaintCorrectionMaskRadius (7) | 0.038845 |
PaintCorrectionMaskRadius (8) | 0.038222 |
PaintCorrectionMaskRadius (9) | 0.038972 |
PaintCorrectionMaskRadius | 0.004634 |
PaintCorrectionMaskValue | 1.000000 |
PaintCorrectionMaskWhat | Mask/Paint |
PaintCorrectionMoire | 0.000000 |
PaintCorrectionSaturation (5) | 0.444440 |
PaintCorrectionSaturation (7) | 0.185190 |
PaintCorrectionSaturation | 0.000000 |
PaintCorrectionShadows2012 | 0.000000 |
PaintCorrectionSharpness (1) | -0.574070 |
PaintCorrectionSharpness (2) | 0.592590 |
PaintCorrectionSharpness | 1.000000 |
PaintCorrectionTemperature | 0.000000 |
PaintCorrectionTint | 0.000000 |
PaintCorrectionWhat | Correction |
ParametricDarks | -35 |
ParametricHighlights | -97 |
ParametricHighlightSplit | 75 |
ParametricLights | +33 |
ParametricMidtoneSplit | 50 |
ParametricShadows | -45 |
ParametricShadowSplit | 25 |
PerspectiveAspect | 0 |
PerspectiveHorizontal | 0 |
PerspectiveRotate | 0.0 |
PerspectiveScale | 100 |
PerspectiveUpright | 0 |
PerspectiveVertical | 0 |
PostCropVignetteAmount | 0 |
ProcessVersion | 6.7 |
ProfileDescription | sRGB IEC61966-2.1 |
Rating | 4 |
RawFileName | Gamlebyen- - SH_16919-HDR - - 07 september 2015 - Fil-2.jpg |
RecommendedExposureIndex | 100 |
RedHue | 0 |
RedSaturation | 0 |
Rights | © Fotograf : Svein Hansen |
Saturation | 0 |
SaturationAdjustmentAqua | 0 |
SaturationAdjustmentBlue | +14 |
SaturationAdjustmentGreen | 0 |
SaturationAdjustmentMagenta | 0 |
SaturationAdjustmentOrange | 0 |
SaturationAdjustmentPurple | 0 |
SaturationAdjustmentRed | 0 |
SaturationAdjustmentYellow | 0 |
ScaleFactor35efl | 1.0 |
SceneCaptureType | Standard |
SensitivityType | Recommended Exposure Index |
SerialNumber | 093024002999 |
Shadows2012 | +70 |
ShadowTint | 0 |
SharpenDetail | 25 |
SharpenEdgeMasking | 0 |
SharpenRadius | +1.0 |
Sharpness | 25 |
ShutterSpeed | 0.5 |
ShutterSpeedValue | 0.5 |
Software | Adobe Photoshop Lightroom 6.1 (Windows) |
SplitToningBalance | 0 |
SplitToningHighlightHue | 0 |
SplitToningHighlightSaturation | 0 |
SplitToningShadowHue | 0 |
SplitToningShadowSaturation | 0 |
Subject | Gamlebyen |
Tint | -4 |
ToneCurve | 0, 0, 255, 255 |
ToneCurveBlue | 0, 0, 255, 255 |
ToneCurveGreen | 0, 0, 255, 255 |
ToneCurveName | Linear |
ToneCurveName2012 | Linear |
ToneCurvePV2012 | 0, 0, 255, 255 |
ToneCurvePV2012Blue | 0, 0, 255, 255 |
ToneCurvePV2012Green | 0, 0, 255, 255 |
ToneCurvePV2012Red | 0, 0, 255, 255 |
ToneCurveRed | 0, 0, 255, 255 |
ToneMapStrength | 0 |
URL | www.sveinfoto.no |
UsageTerms | Det er ikke lov å kopiere eller bruke bilde uten tillatelse av fotografen! |
UserComment | Canon 5D Mark III |
Version | 9.1 |
Vibrance | 0 |
VignetteAmount | 0 |
WebStatement | www.sveinfoto.no |
WhiteBalance (1) | As Shot |
WhiteBalance | Auto |
Whites2012 | -9 |